BEGIN:VCALENDAR
VERSION:2.0
PRODID:-//112.109.81.169//NONSGML kigkonsult.se iCalcreator 2.20//
CALSCALE:GREGORIAN
METHOD:PUBLISH
X-WR-CALNAME:cerocwellington.co.nz
X-WR-CALDESC:Home of Social\, Fun Ceroc Dance Classes &amp\; Lessons in Alb
 any\, North Shore &amp\; West Auckland
X-FROM-URL:http://cerocwellington.co.nz
X-WR-TIMEZONE:Pacific/Auckland
BEGIN:VTIMEZONE
TZID:Pacific/Auckland
X-LIC-LOCATION:Pacific/Auckland
BEGIN:STANDARD
DTSTART:20200405T030000
TZOFFSETFROM:+1300
TZOFFSETTO:+1200
TZNAME:NZST
END:STANDARD
BEGIN:DAYLIGHT
DTSTART:20190929T020000
TZOFFSETFROM:+1200
TZOFFSETTO:+1300
TZNAME:NZDT
END:DAYLIGHT
END:VTIMEZONE
BEGIN:VEVENT
UID:ai1ec-4073@ceroc.co.nz
DTSTAMP:20191219T213235Z
CATEGORIES;LANGUAGE=en-US:Competitions\,Social Event\,Workshops
CONTACT:www.cerocevents.co.nz\; cerocmania@gmail.com
DESCRIPTION:<div id='pl-2'  class='panel-layout' ><div id='pg-2-0'  class='
 panel-grid panel-no-style' ><div id='pgc-2-0-0'  class='panel-grid-cell' >
 <div id='panel-2-0-0-0' class='so-panel widget widget_text panel-first-chi
 ld panel-last-child' data-index='0' >			<div class='textwidget'><h3 style='te
 xt-align: center\;'>What is Ceroc?</h3>\nWelcome to the home of social\, f
 un Ceroc Ceroc Wellington Classes & Lessons\,\n\nCeroc® Dance is a brand o
 f modern jive dance. A smooth\, fun dance with uncomplicated footwork that
  can be danced to a large range of music\; Chart topping music\, R&B\, Blu
 es\, Jazz\, Rock\, Pop just about anything. It is a partner dance that you
  can dance at parties\, nightclubs\, weddings\, pubs\, balls\, pretty much
  anywhere!\n\nCeroc®  Dance is easy to learn and classes are great fun. We
  welcome first-time dancers with 'two left feet' as the Beginner dance cla
 ss & lessons are specifically designed to get you dancing by the end of th
 e class. Ceroc® is a popular form of dance which makes it a great way to m
 eet people and socialise. Class nights rang from 30 to 60 people each nigh
 t and we have a wide range of ages from 16 upwards\, all joining in and ha
 ving and having a fun time together. \n(Disclaimer\, Ceroc®  Modern Jive c
 an be addictive\, so be warned.)\n\nNo need to book\, as we hold regular w
 eekly classes\, so just turn up. No need to bring a partner although it is
  more fun going with family and friends\, as dancers are rotated during th
 e lessons so everyone gets to dance.\n\nCheck out our Tips For New Dancers
  under New Comers in the menu above.\n</div>\n		</div></div></div><div id='p
 g-2-1'  class='panel-grid panel-no-style' ><div id='pgc-2-1-0'  class='pan
 el-grid-cell' ><div id='panel-2-1-0-0' class='so-panel widget widget_black
 -studio-tinymce widget_black_studio_tinymce panel-first-child panel-last-c
 hild' data-index='1' ><div class='textwidget'><h3 style='text-align: cente
 r\;'>Next Ceroc Wellington Events</h3>\n<p style='text-align: center\;'>Cu
 rrently there are no events scheduled for 2018.</p>\n</div></div></div></d
 iv><div id='pg-2-2'  class='panel-grid panel-no-style' ><div id='pgc-2-2-0
 '  class='panel-grid-cell' ><div id='panel-2-2-0-0' class='so-panel widget
  widget_text panel-first-child panel-last-child' data-index='2' ><div clas
 s='panel-widget-style panel-widget-style-for-2-2-0-0' >			<div class='textwid
 get'><h3 style='text-align: center\;'>Ceroc in Action</h3></div>\n		</div></
 div></div></div><div id='pg-2-3'  class='panel-grid panel-no-style' ><div 
 id='pgc-2-3-0'  class='panel-grid-cell' ><div id='panel-2-3-0-0' class='so
 -panel widget widget_virtue_imgmenu_widget virtue_imgmenu_widget panel-fir
 st-child panel-last-child' data-index='3' ><div class=' kadence_img_menu_w
 idget kt_image_menu_widget-3-0-0 kad-animation' data-animation='fade-in' d
 ata-delay='150'><a href='http://cerocwellington.co.nz/?page_id=34' class='
 homepromolink' target='_self'><div class='infobanner' style='background: u
 rl(http://cerocwellington.co.nz/wp-content/uploads/2014/03/party-600x400.j
 pg) center center no-repeat\; height:210px\; background-size: cover\;'><di
 v class='home-message' style='height:210px\;'><h4>Classes & Venues</h4></d
 iv></div></a></div></div></div><div id='pgc-2-3-1'  class='panel-grid-cell
 ' ><div id='panel-2-3-1-0' class='so-panel widget widget_black-studio-tiny
 mce widget_black_studio_tinymce panel-first-child panel-last-child' data-i
 ndex='4' ><div class='panel-widget-style panel-widget-style-for-2-3-1-0' >
 <div class='textwidget'><div class='kad-youtube-shortcode videofit' style=
 'max-width:500px\;' ><iframe width='300' height='200' src='https://www.you
 tube.com/embed/dAxs4adpcdI?autoplay=0&controls=1&fs=1&modestbranding=0&the
 me=dark&rel=0&loop=0' frameborder='0' allowfullscreen='true'></iframe></di
 v>\n</div></div></div></div><div id='pgc-2-3-2'  class='panel-grid-cell' >
 <div id='panel-2-3-2-0' class='so-panel widget widget_virtue_imgmenu_widge
 t virtue_imgmenu_widget panel-first-child panel-last-child' data-index='5'
  ><div class=' kadence_img_menu_widget kt_image_menu_widget-3-2-0 kad-anim
 ation' data-animation='fade-in' data-delay='150'><a href='http://cerocwell
 ington.co.nz/?page_id=36' class='homepromolink' target='_self'><div class=
 'infobanner' style='background: url(http://cerocwellington.co.nz/wp-conten
 t/uploads/2014/03/Rachael-Paul1-600x400.jpg) center center no-repeat\; hei
 ght:210px\; background-size: cover\;'><div class='home-message' style='hei
 ght:210px\;'><h4>Wedding Dance Privates</h4></div></div></a></div></div></
 div></div></div>
DTSTART;VALUE=DATE:20180311
DTEND;VALUE=DATE:20180312
GEO:-36.925417;+174.785211
LOCATION:Onehunga RSA @ 57 Princes St\, Onehunga\, Auckland 1061\, New Zeal
 and
SEQUENCE:0
SUMMARY:Cerocmania
URL:http://cerocwellington.co.nz/event/cerocmania-501/
X-COST-TYPE:free
X-TAGS;LANGUAGE=en-US:Albany\,Auckland\,Counties\,Dunedin\,East and South\,
 Hamilton\,Kapiti-Hutt\,Kohi\,Nelson\,North Shore\,Palmerston North\,Queens
 town\,Rotorua\,Taranaki\,Tauranga\,Waikato\,Wellington\,West Auckland
X-COST:Refer www.cerocevents.co.nz
END:VEVENT
END:VCALENDAR
