BEGIN:VCALENDAR
VERSION:2.0
PRODID:-//112.109.81.169//NONSGML kigkonsult.se iCalcreator 2.20//
CALSCALE:GREGORIAN
METHOD:PUBLISH
X-WR-CALNAME:cerocwellington.co.nz
X-WR-CALDESC:Home of Social\, Fun Ceroc Dance Classes &amp\; Lessons in Alb
 any\, North Shore &amp\; West Auckland
X-FROM-URL:http://cerocwellington.co.nz
X-WR-TIMEZONE:Pacific/Auckland
BEGIN:VTIMEZONE
TZID:Pacific/Auckland
X-LIC-LOCATION:Pacific/Auckland
BEGIN:STANDARD
DTSTART:20200405T030000
TZOFFSETFROM:+1300
TZOFFSETTO:+1200
TZNAME:NZST
END:STANDARD
BEGIN:DAYLIGHT
DTSTART:20190929T020000
TZOFFSETFROM:+1200
TZOFFSETTO:+1300
TZNAME:NZDT
END:DAYLIGHT
END:VTIMEZONE
BEGIN:VEVENT
UID:ai1ec-3769@ceroc.co.nz
DTSTAMP:20191219T212808Z
CATEGORIES;LANGUAGE=en-US:Classes
CONTACT:Martin Talyor\; 0274 666 664\; dance@cerocstars.co.nz
DESCRIPTION:What is Ceroc?\nWelcome to the home of social\, fun Ceroc Ceroc
  Wellington Classes & Lessons\,\n\nCeroc® Dance is a brand of modern jive 
 dance. A smooth\, fun dance with uncomplicated footwork that can be danced
  to a large range of music\; Chart topping music\, R&B\, Blues\, Jazz\, Ro
 ck\, Pop just about anything. It is a partner dance that you can dance at 
 parties\, nightclubs\, weddings\, pubs\, balls\, pretty much anywhere!\n\n
 Ceroc®  Dance is easy to learn and classes are great fun. We welcome first
 -time dancers with 'two left feet' as the Beginner dance class & lessons a
 re specifically designed to get you dancing by the end of the class. Ceroc
 ® is a popular form of dance which makes it a great way to meet people and
  socialise. Class nights rang from 30 to 60 people each night and we have 
 a wide range of ages from 16 upwards\, all joining in and having and havin
 g a fun time together. \n(Disclaimer\, Ceroc®  Modern Jive can be addictiv
 e\, so be warned.)\n\nNo need to book\, as we hold regular weekly classes\
 , so just turn up. No need to bring a partner although it is more fun goin
 g with family and friends\, as dancers are rotated during the lessons so e
 veryone gets to dance.\n\nCheck out our Tips For New Dancers under New Com
 ers in the menu above.\n\n		Next Ceroc Wellington Events\nCurrently there ar
 e no events scheduled for 2018.\n			Ceroc in Action\n		Classes & Venues\nWeddin
 g Dance Privates
DTSTART;TZID=Pacific/Auckland:20170418T193000
DTEND;TZID=Pacific/Auckland:20170418T201500
GEO:-41.297246;+174.779356
LOCATION:Exodus Gym Studio @ 147 Tory St\, Te Aro\, Wellington 6011\, New Z
 ealand
RRULE:FREQ=WEEKLY;UNTIL=20170726T235959Z;BYDAY=TU;WKST=MO
SEQUENCE:0
SUMMARY:Beginner Class
URL:http://cerocwellington.co.nz/event/beginner-class-4/
X-COST-TYPE:free
X-ALT-DESC;FMTTYPE=text/html:<!DOCTYPE HTML PUBLIC '-//W3C//DTD HTML 3.2//E
 N'>\\n<HTML>\\n<HEAD>\\n<TITLE></TITLE>\\n</HEAD>\\n<BODY><div id='pl-2'  
 class='panel-layout' ><div id='pg-2-0'  class='panel-grid panel-no-style' 
 ><div id='pgc-2-0-0'  class='panel-grid-cell' ><div id='panel-2-0-0-0' cla
 ss='so-panel widget widget_text panel-first-child panel-last-child' data-i
 ndex='0' >			<div class='textwidget'><h3 style='text-align: center\;'>What is
  Ceroc?</h3>\nWelcome to the home of social\, fun Ceroc Ceroc Wellington C
 lasses & Lessons\,\n\nCeroc® Dance is a brand of modern jive dance. A smoo
 th\, fun dance with uncomplicated footwork that can be danced to a large r
 ange of music\; Chart topping music\, R&B\, Blues\, Jazz\, Rock\, Pop just
  about anything. It is a partner dance that you can dance at parties\, nig
 htclubs\, weddings\, pubs\, balls\, pretty much anywhere!\n\nCeroc®  Dance
  is easy to learn and classes are great fun. We welcome first-time dancers
  with 'two left feet' as the Beginner dance class & lessons are specifical
 ly designed to get you dancing by the end of the class. Ceroc® is a popula
 r form of dance which makes it a great way to meet people and socialise. C
 lass nights rang from 30 to 60 people each night and we have a wide range 
 of ages from 16 upwards\, all joining in and having and having a fun time 
 together. \n(Disclaimer\, Ceroc®  Modern Jive can be addictive\, so be war
 ned.)\n\nNo need to book\, as we hold regular weekly classes\, so just tur
 n up. No need to bring a partner although it is more fun going with family
  and friends\, as dancers are rotated during the lessons so everyone gets 
 to dance.\n\nCheck out our Tips For New Dancers under New Comers in the me
 nu above.\n</div>\n		</div></div></div><div id='pg-2-1'  class='panel-grid p
 anel-no-style' ><div id='pgc-2-1-0'  class='panel-grid-cell' ><div id='pan
 el-2-1-0-0' class='so-panel widget widget_black-studio-tinymce widget_blac
 k_studio_tinymce panel-first-child panel-last-child' data-index='1' ><div 
 class='textwidget'><h3 style='text-align: center\;'>Next Ceroc Wellington 
 Events</h3>\n<p style='text-align: center\;'>Currently there are no events
  scheduled for 2018.</p>\n</div></div></div></div><div id='pg-2-2'  class=
 'panel-grid panel-no-style' ><div id='pgc-2-2-0'  class='panel-grid-cell' 
 ><div id='panel-2-2-0-0' class='so-panel widget widget_text panel-first-ch
 ild panel-last-child' data-index='2' ><div class='panel-widget-style panel
 -widget-style-for-2-2-0-0' >			<div class='textwidget'><h3 style='text-align:
  center\;'>Ceroc in Action</h3></div>\n		</div></div></div></div><div id='pg
 -2-3'  class='panel-grid panel-no-style' ><div id='pgc-2-3-0'  class='pane
 l-grid-cell' ><div id='panel-2-3-0-0' class='so-panel widget widget_virtue
 _imgmenu_widget virtue_imgmenu_widget panel-first-child panel-last-child' 
 data-index='3' ><div class=' kadence_img_menu_widget kt_image_menu_widget-
 3-0-0 kad-animation' data-animation='fade-in' data-delay='150'><a href='ht
 tp://cerocwellington.co.nz/?page_id=34' class='homepromolink' target='_sel
 f'><div class='infobanner' style='background: url(http://cerocwellington.c
 o.nz/wp-content/uploads/2014/03/party-600x400.jpg) center center no-repeat
 \; height:210px\; background-size: cover\;'><div class='home-message' styl
 e='height:210px\;'><h4>Classes & Venues</h4></div></div></a></div></div></
 div><div id='pgc-2-3-1'  class='panel-grid-cell' ><div id='panel-2-3-1-0' 
 class='so-panel widget widget_black-studio-tinymce widget_black_studio_tin
 ymce panel-first-child panel-last-child' data-index='4' ><div class='panel
 -widget-style panel-widget-style-for-2-3-1-0' ><div class='textwidget'><di
 v class='kad-youtube-shortcode videofit' style='max-width:500px\;' ><ifram
 e width='300' height='200' src='https://www.youtube.com/embed/dAxs4adpcdI?
 autoplay=0&controls=1&fs=1&modestbranding=0&theme=dark&rel=0&loop=0' frame
 border='0' allowfullscreen='true'></iframe></div>\n</div></div></div></div
 ><div id='pgc-2-3-2'  class='panel-grid-cell' ><div id='panel-2-3-2-0' cla
 ss='so-panel widget widget_virtue_imgmenu_widget virtue_imgmenu_widget pan
 el-first-child panel-last-child' data-index='5' ><div class=' kadence_img_
 menu_widget kt_image_menu_widget-3-2-0 kad-animation' data-animation='fade
 -in' data-delay='150'><a href='http://cerocwellington.co.nz/?page_id=36' c
 lass='homepromolink' target='_self'><div class='infobanner' style='backgro
 und: url(http://cerocwellington.co.nz/wp-content/uploads/2014/03/Rachael-P
 aul1-600x400.jpg) center center no-repeat\; height:210px\; background-size
 : cover\;'><div class='home-message' style='height:210px\;'><h4>Wedding Da
 nce Privates</h4></div></div></a></div></div></div></div></div></BODY></HT
 ML>
X-TAGS;LANGUAGE=en-US:Wellington
X-COST:$15 or various concession cards available
END:VEVENT
END:VCALENDAR
